BEGIN:VCALENDAR
VERSION:2.0
PRODID:-//Stadtgeschichte München//DE
CALSCALE:GREGORIAN
BEGIN:VEVENT
UID:22688@stadtgeschichte-muenchen.de
SUMMARY:Archäologie an Schauplätzen der NS-Zeit in München
DESCRIPTION:&lt;p&gt;Seit drei Jahrzehnten beschäftigen sich Archäologie und Bodendenkmalpflege in Deutschland mit Schauplätzen und Zeugnissen der NS-Zeit. Bayern und München nehmen dabei eine besondere Rolle ein. Das liegt einerseits an dem Weg zur und während der NS-Diktatur, andererseits an den vielschichtigen Bauaufgaben, verbunden mit Rüstung, Repression, Vernichtung sowie Repräsentation und Inszenierung. Der Vortrag beleuchtet Ergebnisse von Ausgrabungen der letzten Jahre aus München und seinem Umland und ordnet diese im überregionalen Kontext ein.&lt;/p&gt; &lt;p&gt;In Kooperation mit dem Bayerischen Landesamt für Denkmalpflege und der Archäologischen Staatssammlung im Rahmen des Projekts Archäologie München&lt;/p&gt; 
DTSTART:20230504T190000
DTEND:20230504T203000
LOCATION:Landesamt für Denkmalpflege, Säulenhalle Hofgraben 4
ORGANIZER:MVHS
END:VEVENT
END:VCALENDAR