BEGIN:VCALENDAR
VERSION:2.0
PRODID:-//Stadtgeschichte München//DE
CALSCALE:GREGORIAN
BEGIN:VEVENT
UID:22689@stadtgeschichte-muenchen.de
SUMMARY:Archäologie in München: Zukunftsperspektiven einer Stadt
DESCRIPTION:&lt;p&gt;München wächst weiter, große Bauvorhaben stehen bevor. Dies wird für die Archäologie neue Fenster in die Vergangenheit öffnen. In einem Gespräch wagen Experten einen Blick in die Zukunft der Archäologie in München, zeigen Perspektiven und Erwartungen auf, wie sich das Wissen um die frühe Geschichte der Stadt erweitern wird. Einleitender Impulsvortrag von Dr. Christian Behrer, Büro für Denkmalpflege, Regensburg&lt;/p&gt; &lt;p&gt;Anschließend: Gesprächsrunde&lt;/p&gt; &lt;p&gt;In Kooperation mit dem Bayerischen Landesamt für Denkmalpflege und der Archäologischen Staatssammlung im Rahmen des Projekts Archäologie München&lt;/p&gt; 
DTSTART:20230511T190000
DTEND:20230511T000020
LOCATION:Landesamt für Denkmalpflege, Säulenhalle Hofgraben 4
ORGANIZER:MVHS
END:VEVENT
END:VCALENDAR