BEGIN:VCALENDAR
VERSION:2.0
PRODID:-//Stadtgeschichte München//DE
CALSCALE:GREGORIAN
BEGIN:VEVENT
UID:22691@stadtgeschichte-muenchen.de
SUMMARY:Die Restaurierungswerkstatt für Bodendenkmalpflege am Bayerischen Landesamt für Denkmalpfl
DESCRIPTION:&lt;p&gt;Das Referat Bewegliche Bodendenkmäler ist für den Erhalt archäologischer Funde in Bayern ab dem Zeitpunkt der Ausgrabung bis zur Abgabe an einen endgültigen Verbleibeort zuständig. Das Aufgabenspektrum der Restaurator*innen umfasst die präventive und stabilisierende Konservierung, besondere Objekte werden modellhaft untersucht und restauriert. Ein großer Teil der Arbeit ist die Fachberatung rund um den Fund für externe Partner. Das Werkstattteam stellt Ihnen im Rahmen einer Führung die denkmalpflegerische Arbeitsweise und aktuelle Projekte vor.&lt;/p&gt; 
DTSTART:20230511T150000
DTEND:20230511T160000
LOCATION:Innenhof der Alten Münze Hofgraben 4
ORGANIZER:MVHS
END:VEVENT
END:VCALENDAR