BEGIN:VCALENDAR
VERSION:2.0
PRODID:-//Stadtgeschichte München//DE
CALSCALE:GREGORIAN
BEGIN:VEVENT
UID:22692@stadtgeschichte-muenchen.de
SUMMARY:Das Ensemble Dreimühlenviertel
DESCRIPTION:&lt;p&gt;Die Landeshauptstadt München ist nicht nur reich an Baudenkmälern; hier gibt es auch eine bayernweit überdurchschnittlich hohe Anzahl an denkmalgeschützten Ensembles: Teils ganze Stadtbereiche sind als Ensembles erfasst. So auch das Dreimühlenviertel, das im Zuge der urbanen Verdichtung Münchens um 1900 entstand. Hier folgen die Straßenzüge den Vorstellungen des malerischen Städtebaus. Lernen Sie anlässlich des 50-jährigen Jubiläums des Bayerischen Denkmalschutzgesetzes bei einem Stadtspaziergang dieses Viertel kennen.&lt;/p&gt; 
DTSTART:20230504T170000
DTEND:20230504T180000
LOCATION:Dreimühlenstr./Ecke Ehrengutstr.
ORGANIZER:MVHS
END:VEVENT
END:VCALENDAR