BEGIN:VCALENDAR
VERSION:2.0
PRODID:-//Stadtgeschichte München//DE
CALSCALE:GREGORIAN
BEGIN:VEVENT
UID:22706@stadtgeschichte-muenchen.de
SUMMARY:Vom zweiten Vorzimmer bis zum Paradeschlafzimmer
DESCRIPTION:
DTSTART:20230624T140000
DTEND:20230624T153000
LOCATION:Vorraum Kasse Residenz München
ORGANIZER:MVHS
END:VEVENT
END:VCALENDAR