BEGIN:VCALENDAR
VERSION:2.0
PRODID:-//Stadtgeschichte München//DE
CALSCALE:GREGORIAN
BEGIN:VEVENT
UID:22737@stadtgeschichte-muenchen.de
SUMMARY:„Wasser marsch!“
DESCRIPTION:
DTSTART:20230618T140000
DTEND:20230618T153000
LOCATION:vor dem Hauptschloss (stadtseitig)
ORGANIZER:Bayerische Schlösserverwaltung
END:VEVENT
END:VCALENDAR