BEGIN:VCALENDAR
VERSION:2.0
PRODID:-//Stadtgeschichte München//DE
CALSCALE:GREGORIAN
BEGIN:VEVENT
UID:22745@stadtgeschichte-muenchen.de
SUMMARY:Die Amalienburg
DESCRIPTION:
DTSTART:20230820T140000
DTEND:20230820T153000
LOCATION:vor dem Hauptschloss (stadtseitig)
ORGANIZER:Bayerische Schlösserverwaltung
END:VEVENT
END:VCALENDAR