BEGIN:VCALENDAR
VERSION:2.0
PRODID:-//Stadtgeschichte München//DE
CALSCALE:GREGORIAN
BEGIN:VEVENT
UID:22753@stadtgeschichte-muenchen.de
SUMMARY:„Es lief wie am Schnürchen“
DESCRIPTION:
DTSTART:20231105T140000
DTEND:20231105T163000
LOCATION:vor dem Marstallmuseum
ORGANIZER:Bayerische Schlösserverwaltung
END:VEVENT
END:VCALENDAR