BEGIN:VCALENDAR
VERSION:2.0
PRODID:-//Stadtgeschichte München//DE
CALSCALE:GREGORIAN
BEGIN:VEVENT
UID:22773@stadtgeschichte-muenchen.de
SUMMARY:Hutrausch! 
DESCRIPTION:&lt;p&gt;Themensonntag zur Sonderausstellung&lt;br /&gt; &lt;strong&gt;Hauptsache. Hüte. Hauben. Hip-Hop-Caps&lt;/strong&gt;&lt;/p&gt; &lt;p&gt;Erleben Sie die Kunst des Hutmachens hautnah. Modistinnen aus München und Umgebung lassen sich an diesem Tag über die Schulter schauen und präsentieren ihre schönsten Kreationen. Es erwartet Sie eine berauschende Fülle ausgefallener Kopfbedeckungen. An zahlreichen Ständen und auf unserem Hutflohmarkt können Sie Hüte anprobieren, sich inspirieren lassen und Ihr neues Lieblingsstück auch gleich erwerben.&lt;/p&gt; &lt;p&gt;&lt;strong&gt;Themenführungen (Eintritt in die Sonderausstellung):&lt;/strong&gt;&lt;br /&gt; 11.00 Uhr: Wohlbehütet durch die Modegeschichte. Ein Accessoire erobert die elegante Welt&amp;nbsp;&lt;br /&gt; 13.30 Uhr: Die Fantasie hat den Hut auf. Modische Damenkopfbedeckungen von 1900 bis heute&lt;br /&gt; 15.30 Uhr: Gesprangt, geknotet und gestrickt – Über die Herstellung von Haarnetzen und Nürnberger Goldhauben&lt;/p&gt; &lt;p&gt;&lt;strong&gt;Vorführungsprogramm unter dem Motto „Von der Form zur Garnitur – wie man einen Hut macht“ (Sonntagseintritt ins Museum): 11.00 bis 16.00 Uhr:&lt;/strong&gt;&lt;br /&gt; • Herstellung von Hüten: Eisenblätter &amp;amp; Triska von der Hutwerkstatt; Julia Lösch von Ina Böckler-Hutwerkstatt&lt;br /&gt; • Die Kunst der Garnitur: Hut Breiter; Christine Halbig&lt;br /&gt; • Präsentationen der Modistinnen Ruth Zanker; Heike Thamm; Virginie Pässler (La Vee); ALIDA und Royal Featherflowers&lt;/p&gt; &lt;p&gt;&lt;strong&gt;Vortrag:&lt;/strong&gt;&lt;br /&gt; 14.30 Uhr: Frau Patel-Mißfeldt berichtet über „Mut zum Hut“&amp;nbsp;&lt;/p&gt; 
DTSTART:20230305T110000
DTEND:20230305T160000
LOCATION:Prinzregentenstraße 3
ORGANIZER:Bayerisches Nationalmuseum
END:VEVENT
END:VCALENDAR