BEGIN:VCALENDAR
VERSION:2.0
PRODID:-//Stadtgeschichte München//DE
CALSCALE:GREGORIAN
BEGIN:VEVENT
UID:22786@stadtgeschichte-muenchen.de
SUMMARY:Ostfriedhof - bayerische Kulturgeschichte und modernste Technik
DESCRIPTION:&lt;p&gt;Aus den ehemaligen &quot;Auer Leichenäckern&quot; ab 1817 entwickelte sich, nach der Eingemeindung von Au, Giesing und Haidhausen, der heutige Ostfriedhof. Monumentales Wahrzeichen ist die Aussegnungshalle. Der Spaziergang führt zu den Gräbern vieler Prominenter - Rudolf Moshammer, Schlagerstar Rex Gildo, Dr. Gudden, der mit Ludwig II. starb, dem letzten Henker von München, dem &quot;Bayerischen Herkules&quot; - und zum Denkmal, das an die Revolutionsjahre 1918/19 in München erinnert. Das neue Krematorium wird technisch und gestalterisch höchsten Ansprüchen genügen.&lt;/p&gt; 
DTSTART:20230329T140000
DTEND:20230329T160000
LOCATION:Ostfriedhof, vor der Aussegnungshalle St.-Martins-Platz
ORGANIZER:MVHS
END:VEVENT
END:VCALENDAR