BEGIN:VCALENDAR
VERSION:2.0
PRODID:-//Stadtgeschichte München//DE
CALSCALE:GREGORIAN
BEGIN:VEVENT
UID:22799@stadtgeschichte-muenchen.de
SUMMARY:Ausstellung: Kunst in Bogenhausen
DESCRIPTION:&lt;p&gt;Die Ausstellung präsentiert die Vielfalt künstlerischen Schaffens im Stadtbezirk Bogenhausen. Präsentiert - aber nicht künstlerisch bewertet - werden Kunstwerke im öffentlichen Raum, mehr oder weniger versteckt, in und bei Gebäuden, bei Wohnanlagen, in Parkanlagen und auf Plätzen. Dabei handelt es sich nicht nur um Skulpturen, sondern auch um Brunnen, Brückenschmuck, Fassadenschmuck oder Street Art. Vorgestellt werden zudem Künstler und Künstlerinnen, die im Stadtbezirk gewohnt und gewirkt haben.&lt;/p&gt; &lt;p&gt;In Kooperation mit dem Verein NordOstKultur.&lt;/p&gt; &lt;p&gt;Zusammenstellung der Ausstellung: Karin Bernst, Autorin des gleichnamigen Buches (Verlag &quot;NordOstKultur&quot;).&lt;/p&gt; &lt;p&gt;Im Rahmen des Kulturwochenendes Bogenhausen vom 5. bis 7. Mai 2023.&lt;/p&gt; &lt;p&gt;Wir laden herzlich zur Ausstellungseröffnung ein.&lt;/p&gt; 
DTSTART:20230505T193000
DTEND:20230505T213000
LOCATION:Kunstforum Arabellapark Rosenkavalierplatz 16
ORGANIZER:MVHS
END:VEVENT
END:VCALENDAR