BEGIN:VCALENDAR
VERSION:2.0
PRODID:-//Stadtgeschichte München//DE
CALSCALE:GREGORIAN
BEGIN:VEVENT
UID:22823@stadtgeschichte-muenchen.de
SUMMARY:Besuch beim Max-Planck-Institut für Biologische Intelligenz am Campus Seewiesen
DESCRIPTION:&lt;p&gt;Im Max-Planck-Institut für biologische Intelligenz untersuchen rund 500 Mitarbeitende, wie tierische Lebewesen Wissen über ihre Umwelt erwerben, speichern, anwenden und weitergeben. Das Institut hat zwei Standorte. In Seewiesen bei Starnberg wird Feldforschung mit modernen Methoden der Verhaltensbiologie kombiniert, während in Martinsried bei München vor allem neurowissenschaftlich geforscht wird. Beim Rundgang in Seewiesen erfahren Sie mehr zur Geschichte des Standortes und den Forschungsschwerpunkten - wie das Gesangslernen&lt;/p&gt; &lt;ul&gt; &lt;/ul&gt; 
DTSTART:20230329T170000
DTEND:20230329T190000
LOCATION:Max-Planck-Institut für biologische Intelligenz - Seewiesen Eberhard-Gwinner-Str.
ORGANIZER:MVHS
END:VEVENT
END:VCALENDAR