BEGIN:VCALENDAR
VERSION:2.0
PRODID:-//Stadtgeschichte München//DE
CALSCALE:GREGORIAN
BEGIN:VEVENT
UID:22827@stadtgeschichte-muenchen.de
SUMMARY:Die Wittelsbacher und die Kunst
DESCRIPTION:&lt;p&gt;Die Wittelsbacher haben in ihrer Geschichte immer wieder ambitionierte und kunstkundige (Kunst-) Sammler hervorgebracht. Der Vortrag stellt die herausragenden Sammlungen aus München, Düsseldorf, Mannheim und Carlsberg vor und macht deutlich, welchen Einfluss die Sammeltätigkeit und die innovativen Zugänge der Sammler und ihrer Agenten, Kunstbeamten und Galeriedirektoren auf die Entwicklung des modernen Museums in Deutschland und Europa hatte&lt;/p&gt; 
DTSTART:20230403T180000
DTEND:20230403T193000
LOCATION:Bildungszentrum Einsteinstr. 28
ORGANIZER:MVHS
END:VEVENT
END:VCALENDAR