BEGIN:VCALENDAR
VERSION:2.0
PRODID:-//Stadtgeschichte München//DE
CALSCALE:GREGORIAN
BEGIN:VEVENT
UID:2285@stadtgeschichte-muenchen.de
SUMMARY:Barbiere,Wundärzte und „Halbgötter&quot;
DESCRIPTION:&lt;div&gt; &lt;div&gt; &lt;div&gt; &lt;div&gt; &lt;div&gt;1 832 Geb&amp;auml;ranstalt f&amp;uuml;r ledige M&amp;uuml;tter, heute &amp;bdquo;Isar Medizin Zentrum&amp;quot;: Unser&amp;nbsp;Spaziergang durch Isar- und Ludwigsvorstadt erinnert an den manchmal&amp;nbsp;kuriosen Umgang mit Krankheiten und Kranken, Fort- und R&amp;uuml;ckschritten&amp;nbsp;in der Medizin und fragt nach den aktuellen Entwicklungen.&lt;/div&gt; &lt;/div&gt; &lt;/div&gt; &lt;/div&gt; &lt;/div&gt;
DTSTART:20120607T140000
DTEND:20120607T000000
LOCATION: â€žIsar Medizin Zentrum\", Sonnenstr. 24-26
ORGANIZER:STATTreisen München e.V.
END:VEVENT
END:VCALENDAR