BEGIN:VCALENDAR
VERSION:2.0
PRODID:-//Stadtgeschichte München//DE
CALSCALE:GREGORIAN
BEGIN:VEVENT
UID:22861@stadtgeschichte-muenchen.de
SUMMARY:Zu Besuch beim Tierschutzverein München e.V. und im Tierheim München-Riem
DESCRIPTION:&lt;p&gt;1842 gegründet, gehört er zu den größten Tierschutzvereinen Europas und ist führend in der Tierschutzbewegung. Seit 1956 betreibt er mit rund 60 festen Mitarbeitenden, zahlreichen Fördernden und ehrenamtlichen Helfenden das Tierheim in Riem. Rund 8500 Haus-, Wild- und Nutztiere in Not werden hier jährlich aufgenommen und versorgt oder an neue Plätze vermittelt. Sie erhalten Einblick in die Aufgaben des Tierschutzvereins und zur Tierhaltung von rund 950 Tieren. Wie und warum &quot;landen&quot; die Tiere hier? Sicher haben auch Sie Fragen.&lt;/p&gt; 
DTSTART:20230503T140000
DTEND:20230503T153000
LOCATION:Tierheim München Riem Riemer Str. 270
ORGANIZER:MVHS
END:VEVENT
END:VCALENDAR