BEGIN:VCALENDAR
VERSION:2.0
PRODID:-//Stadtgeschichte München//DE
CALSCALE:GREGORIAN
BEGIN:VEVENT
UID:22863@stadtgeschichte-muenchen.de
SUMMARY:Technologie und Intimität – Ludwig II. und die Spektakelkultur seiner Zeit
DESCRIPTION:&lt;p&gt;Gespräch mit Ludwigforscher Jean Louis Schlim und Theaterwissenschaftler Prof. Dr. Ulf Otto (LMU)&lt;/p&gt; 
DTSTART:20230606T190000
DTEND:20230606T203000
LOCATION:Deutsches Theatermuseum
ORGANIZER:Deutsches Theatermuseum
END:VEVENT
END:VCALENDAR