BEGIN:VCALENDAR
VERSION:2.0
PRODID:-//Stadtgeschichte München//DE
CALSCALE:GREGORIAN
BEGIN:VEVENT
UID:22864@stadtgeschichte-muenchen.de
SUMMARY:Illusion und Immersion. Analoge und digitale Bühnenwelten
DESCRIPTION:&lt;p&gt;Gespräch mit Theaterwissenschaftlerin Dr. Birgit Wiens und Digitaldramaturg Ilja Mirsky (Residenztheater)&lt;/p&gt; 
DTSTART:20230615T190000
DTEND:20230615T203000
LOCATION:Deutsches Theatermuseum
ORGANIZER:Deutsches Theatermuseum
END:VEVENT
END:VCALENDAR