BEGIN:VCALENDAR
VERSION:2.0
PRODID:-//Stadtgeschichte München//DE
CALSCALE:GREGORIAN
BEGIN:VEVENT
UID:22867@stadtgeschichte-muenchen.de
SUMMARY:Der Truderinger Ortskern - eine Zeitreise von der Vergangenheit in die Zukunft
DESCRIPTION:&lt;p&gt;2022 jährte sich die erste urkundliche Erwähnung Truderings zum 1250. Male. Heute lebt man in Trudering getreu dem Motto &quot;traditionell - modern - lebendig&quot;. Bei unserem Spaziergang wird die Geschichte, die seit dem 12. Jahrhundert über den Salztransport eng mit München verwoben ist, anhand gut identifizierbarer Spuren im Ortsbild erlebbar und die aktuelle Umgestaltung des Ortskerns sichtbar gemacht. Ein halbes Jahr nach Beendigung des Ortskernsanierungsprojektes gibt die Führung Gelegenheit, das Erreichte zu reflektieren und viele Stellen geschichtlich einzuordnen.&lt;/p&gt; 
DTSTART:20230512T150000
DTEND:20230512T170000
LOCATION:Busbahnhof Trudering, am Aufzug
ORGANIZER:MVHS
END:VEVENT
END:VCALENDAR