BEGIN:VCALENDAR
VERSION:2.0
PRODID:-//Stadtgeschichte München//DE
CALSCALE:GREGORIAN
BEGIN:VEVENT
UID:22868@stadtgeschichte-muenchen.de
SUMMARY:Podiumsdiskussion „Kultur fragt Politik
DESCRIPTION:&lt;p&gt;Themenschwerpunkt des Abends ist der Austausch zwischen Kultur und Politik. Kunst und Kultur sind zentrale Elemente für ein gelungenes soziales Miteinander in unserer Gesellschaft. Gerade in den letzten Monaten war es für viele Künstler:innen und etliche Kulturveranstaltende sehr schwer unter den gegebenen Bedingungen weiterhin kulturell aktiv zu bleiben.&lt;/p&gt; &lt;p&gt;Auf dem Podium werden folgende Vertreter:innen aus der Politik diskutieren:&lt;/p&gt; &lt;ul&gt; &lt;li&gt;&lt;strong&gt;Andreas Jäckel (CSU)&lt;/strong&gt;&lt;/li&gt; &lt;li&gt;&lt;strong&gt;Susanne Kurz (Bündnis 90 / Die Grünen)&lt;/strong&gt;&lt;/li&gt; &lt;li&gt;&lt;strong&gt;Kerstin Radler (Freie Wähler)&lt;/strong&gt;&lt;/li&gt; &lt;li&gt;&lt;strong&gt;Volkmar Halbleib (SPD)&lt;/strong&gt;&lt;/li&gt; &lt;li&gt;&lt;strong&gt;Dr. Helmut Kaltenhauser (FDP)&lt;/strong&gt;&lt;/li&gt; &lt;/ul&gt; &lt;p&gt;Die Veranstaltung ist kostenlos. Die Anmeldung zur Podiumsdiskussion erfolgt über München Ticket. Unter&amp;nbsp;&lt;a href=&quot;https://www.muenchenticket.de/tickets/performances/ez86yj13x8lx/Podiumsdiskussion-Kultur-fragt-Politik&quot; target=&quot;_blank&quot;&gt;München Ticket&lt;/a&gt;&amp;nbsp;kann man sich ein kostenloses Nullticket buchen.&lt;/p&gt; 
DTSTART:20230425T190000
DTEND:20230425T210000
LOCATION:WERK7 theater, Speicherstraße 22
ORGANIZER:Verband der Münchner Kulturveranstaltenden e.V.
END:VEVENT
END:VCALENDAR