BEGIN:VCALENDAR
VERSION:2.0
PRODID:-//Stadtgeschichte München//DE
CALSCALE:GREGORIAN
BEGIN:VEVENT
UID:22912@stadtgeschichte-muenchen.de
SUMMARY:Open Air Schabbat für alle in München
DESCRIPTION:&lt;p&gt;Schabbat-Gebet&lt;br /&gt; Klezmer-Musik&lt;br /&gt; Verpflegung&lt;/p&gt; 
DTSTART:20230512T193000
DTEND:20230512T210000
LOCATION:Resi-Huber-Platz
ORGANIZER:J.E.W.S. Jews Engaged with Society e.V.
END:VEVENT
END:VCALENDAR