BEGIN:VCALENDAR
VERSION:2.0
PRODID:-//Stadtgeschichte München//DE
CALSCALE:GREGORIAN
BEGIN:VEVENT
UID:22918@stadtgeschichte-muenchen.de
SUMMARY:Stadtimkerei in Giesing: Einblicke in die Bienenstöcke
DESCRIPTION:&lt;p&gt;Seit einigen Jahren stehen am Giesinger Grünspitz Bienenstöcke, die heute für Sie geöffnet werden. Sie bekommen die Gelegenheit, in die Bienenstöcke und Honigräume zu schauen, lernen die verschiedenen Brutstadien der Bienen unterscheiden, sehen Polleneinlagerungen, Königinnenzellen, probieren frischen Honig und erfahren, wo dieser von der Biene gesammelt wird. Es wird langärmelige, geschlossene Kleidung empfohlen, Schleier bzw. eine entsprechende Schutzvorrichtung sind vorhanden.&lt;/p&gt; &lt;p&gt;Ersatztermin bei eindeutig schlechtem Wetter oder Gewitterneigung (Wettertelefon&amp;nbsp;&lt;a href=&quot;tel:+4989480066754&quot;&gt;089/48006-6754&lt;/a&gt;&lt;a href=&quot;tel:+498948006&quot;&gt;)&lt;/a&gt;: 17.5.2023.&lt;/p&gt; 
DTSTART:20230510T170000
DTEND:20230510T190000
LOCATION:Grünspitz, gegenüber dem Stadtteilladen Giesing Tegernseer Landstr. 113
ORGANIZER:MVHS
END:VEVENT
END:VCALENDAR