BEGIN:VCALENDAR
VERSION:2.0
PRODID:-//Stadtgeschichte München//DE
CALSCALE:GREGORIAN
BEGIN:VEVENT
UID:22945@stadtgeschichte-muenchen.de
SUMMARY:Westend im Wandel
DESCRIPTION:&lt;p&gt;Ein spannender Mix aus Stadtgeschichte, besonderer Architektur und kultigen Orten&lt;br /&gt; &amp;nbsp;&lt;/p&gt; 
DTSTART:20230702T150000
DTEND:20230702T163000
LOCATION: U-Bahnstation Schwanthalerhöhe, Ecke Ganghofer-Heimeranstraße Ecke Ganghofer-Heimeranstr.
ORGANIZER:
END:VEVENT
END:VCALENDAR