BEGIN:VCALENDAR
VERSION:2.0
PRODID:-//Stadtgeschichte München//DE
CALSCALE:GREGORIAN
BEGIN:VEVENT
UID:22947@stadtgeschichte-muenchen.de
SUMMARY:Rosen - Nelken - Gänseblümchen
DESCRIPTION:&lt;p&gt;Es ist Sommer, überall draußen blüht es - aber in den Kirchen auch! Und damit sind nicht die vergänglichen Sträuße und Gestecke beim Altar gemeint. Nein, in den Münchner Kirchen der Altstadt sind viele Blumen, Kräuter, Früchte und Blätter auf Gemälden oder Fresken, stuckiert oder geschnitzt. Das ist nicht einfach nur schön oder dekorativ, meistens steckt auch eine tiefere Bedeutung dahinter.&lt;br /&gt; Gehen Sie mit auf die Suche nach den Blüten in den Kirchen, überraschende Erkenntnisse werden garantiert.&lt;/p&gt; 
DTSTART:20230706T140000
DTEND:20230706T153000
LOCATION:Sendlinger Tor, unter dem Bogen
ORGANIZER:
END:VEVENT
END:VCALENDAR