BEGIN:VCALENDAR
VERSION:2.0
PRODID:-//Stadtgeschichte München//DE
CALSCALE:GREGORIAN
BEGIN:VEVENT
UID:2298@stadtgeschichte-muenchen.de
SUMMARY:An einem Bogen der Isar
DESCRIPTION:&lt;div&gt; &lt;div&gt; &lt;div&gt; &lt;div&gt; &lt;div&gt; &lt;div&gt;Vom ehemaligen Dorf Pubenhausen stehen nur noch Kirche und idyllischer Friedhof. Im Zuge der Stadterweiterung &amp;auml;nderte sich auch Bogenhausen ab 1892 grundlegend und wurde zu d e r Adresse in M&amp;uuml;nchen.&lt;/div&gt; &lt;/div&gt; &lt;/div&gt; &lt;/div&gt; &lt;/div&gt; &lt;/div&gt;
DTSTART:20120610T140000
DTEND:20120610T000000
LOCATION:Max-Joseph-Brücke, Südost-Seite
ORGANIZER:STATTreisen München e.V.
END:VEVENT
END:VCALENDAR