BEGIN:VCALENDAR
VERSION:2.0
PRODID:-//Stadtgeschichte München//DE
CALSCALE:GREGORIAN
BEGIN:VEVENT
UID:22990@stadtgeschichte-muenchen.de
SUMMARY:Münchner KulTourschmankerl - gegen den Strom
DESCRIPTION:&lt;p&gt;Bei einem Spaziergang von Stadtmauer zu Stadtmauer liegen Innenhöfe, Ruheoasen und kulturelle Besonderheiten am Weg !&lt;br /&gt; &amp;nbsp;&lt;/p&gt; 
DTSTART:20231010T150000
DTEND:20231010T163000
LOCATION:Vor der Brasserie OskarMaria, Literaturhaus Salvatorplatz 1
ORGANIZER:
END:VEVENT
END:VCALENDAR