BEGIN:VCALENDAR
VERSION:2.0
PRODID:-//Stadtgeschichte München//DE
CALSCALE:GREGORIAN
BEGIN:VEVENT
UID:22999@stadtgeschichte-muenchen.de
SUMMARY:Bunt sind alle meine Häuser
DESCRIPTION:&lt;p&gt;Tauchen Sie ein in die faszinierende Vielfalt Münchner Jugendstilfassaden!&lt;/p&gt; &lt;p&gt;&amp;nbsp;&lt;/p&gt; 
DTSTART:20231024T150000
DTEND:20231024T163000
LOCATION:Ecke Münchner Freiheit / Haimhauserstraße
ORGANIZER:
END:VEVENT
END:VCALENDAR