BEGIN:VCALENDAR
VERSION:2.0
PRODID:-//Stadtgeschichte München//DE
CALSCALE:GREGORIAN
BEGIN:VEVENT
UID:23003@stadtgeschichte-muenchen.de
SUMMARY:Das Haus Wittelsbach und die Fotografie
DESCRIPTION:&lt;p&gt;Ein prachtvolles Standardwerk zur Geschichte von Fotografie und Film, die eng verknüpft ist mit der Wittelsbacher Familie.&lt;/p&gt; 
DTSTART:20230525T183000
DTEND:20230525T200000
LOCATION:Grisebach GmbH Repräsentanz, Türkenstraße 104
ORGANIZER:Allitera Verlag
END:VEVENT
END:VCALENDAR