BEGIN:VCALENDAR
VERSION:2.0
PRODID:-//Stadtgeschichte München//DE
CALSCALE:GREGORIAN
BEGIN:VEVENT
UID:23027@stadtgeschichte-muenchen.de
SUMMARY:Führung Ohel-Jakob-Synagoge
DESCRIPTION:&lt;p&gt;&lt;strong&gt;Führung: &lt;/strong&gt;Ohel-Jakob-Synagoge&lt;/p&gt; &lt;p&gt;Im Rahmen der Führungen erhalten die Besucher eine Einführung in die Geschichte der jüdischen Gemeinde in München, in die Architektur der Synagoge sowie in den Ablauf eines Gottesdienstes.&lt;/p&gt; &lt;p&gt;Die Bräuche und Traditionen des jüdischen Glaubens werden anhand des Synagogenaufbaus näher erklärt. Rituelle Objekte der jüdischen Religionspraxis werden vorgestellt und veranschaulichen somit die Erklärungen der Referenten.&lt;/p&gt; &lt;p&gt;Herren, sowie verheiratete Frauen sind gebeten, eine Kopfbedeckung während des Besuchs zu tragen.&lt;/p&gt; 
DTSTART:20231105T110000
DTEND:20231105T123000
LOCATION:Ohel-Jakob-Synagoge St.-Jakobs-Platz 18 80331 München
ORGANIZER:ErinnerungsWerkstatt München e.V.
END:VEVENT
END:VCALENDAR