BEGIN:VCALENDAR
VERSION:2.0
PRODID:-//Stadtgeschichte München//DE
CALSCALE:GREGORIAN
BEGIN:VEVENT
UID:23033@stadtgeschichte-muenchen.de
SUMMARY:Gleispark Baumkirchen
DESCRIPTION:&lt;p&gt;Angrenzend an das neu entstandene Siedlungsgebiet &quot;Baumkirchen-Mitte&quot; für 1300 Bewohner*innen ist auf dem Gelände des ehemaligen Bahnbetriebswerks 4 ein naturnaher Gleispark als Lebensraum für seltene Tier- und Pflanzenarten entstanden. Ein den Bestand schonendes Erschließungskonzept mit langen Stegen und sogenannten Bastionen als Verweilzonen macht das Biotop öffentlich zugänglich und erlebbar. Eine Landschaftsarchitektin erläutert das Konzept.&lt;/p&gt; 
DTSTART:20230707T160000
DTEND:20230707T180000
LOCATION:Pavillon WA 1 Hermann-Weinhauser-Straße 43
ORGANIZER:MVHS
END:VEVENT
END:VCALENDAR