BEGIN:VCALENDAR
VERSION:2.0
PRODID:-//Stadtgeschichte München//DE
CALSCALE:GREGORIAN
BEGIN:VEVENT
UID:23034@stadtgeschichte-muenchen.de
SUMMARY:Mitspieler der „Volksgemeinschaft“
DESCRIPTION:&lt;p&gt;Von einem zum Teil bunt schillernden Kreis junger Männer gegründet und bald fest im Münchner Bürgertum wurzelnd, positionierte sich der FC Bayern früh als eine regionale Führungskraft des Fußballs. In der Weimarer Republik vollzog er unter seinem Präsidenten Kurt Landauer einen erstaunlichen Professionalisierungsprozess. Doch als Landauer, der wie viele Mitglieder des Vereins Jude war, Ende März 1933 zurücktrat, war das der erste sichtbare Schritt auf dem Weg in die NS-Diktatur. Das IfZ hat im Auftrag des FC Bayern dessen Geschichte untersucht und dafür nicht nur die Zeit zwischen 1933 und 1945 in den Blick genommen: Die Studie von Gregor Hofmann spannt den Bogen vom Kaiserreich bis in die Bundesrepublik und vergleicht die Geschichte der „Bayern“ mit den Entwicklungen in anderen großen Fußballclubs. Welche Besonderheiten prägten den FC Bayern und welche Rolle spielte der Fußball insgesamt in der Zeit der NS-Diktatur? Über diese Fragen diskutiert unser Podium und fragt dabei nicht zuletzt nach Erkenntnissen der Bayern-Studie für die Gesellschaftsgeschichte des Fußballs in Deutschland.&lt;br /&gt; &lt;br /&gt; &lt;em&gt;Buchpräsentation und Diskussion mit Frank Bajohr (IfZ), Gregor Hofmann (Autor) und Anton Löffelmeier (Stadtarchiv München). Moderation: Martina Steber, Stv. Direktorin des IfZ&lt;/em&gt;&lt;br /&gt; &lt;br /&gt; Die Veranstaltung ist eine Kooperation mit dem Wallstein Verlag. Begleitend zeigen wir die in Kooperation mit dem IfZ überarbeitete Wanderausstellung des FC Bayern-Museums &quot;VEREHRT − VERFOLGT − VERGESSEN&quot;.&amp;nbsp;&lt;/p&gt; 
DTSTART:20230613T180000
DTEND:20230613T193000
LOCATION:Institut für Zeitgeschichte Leonrodstraße 46 b
ORGANIZER:Institut für Zeitgeschichte
END:VEVENT
END:VCALENDAR