BEGIN:VCALENDAR
VERSION:2.0
PRODID:-//Stadtgeschichte München//DE
CALSCALE:GREGORIAN
BEGIN:VEVENT
UID:23055@stadtgeschichte-muenchen.de
SUMMARY:Gedenken an elf Münchnerinnen und Münchner im Stadtzentrum
DESCRIPTION:&lt;ul&gt; &lt;li&gt;16:30 Gedenkveranstaltung&lt;/li&gt; &lt;li&gt;ca. 17:30 Anbringung der Erinnerungszeichen für Emma, Hertha und Erich Emanuel Steinitz&amp;nbsp;&lt;br /&gt; am ehemaligen Wohnhaus Marienplatz 22 (früher 24)&lt;/li&gt; &lt;li&gt;ca. 18:00 Anbringung der Erinnerungszeichen für Hedwig, Jeanette und Rosa Hiller&lt;br /&gt; am ehemaligen Wohnhaus in der Burgstraße 1 (früher 3)&lt;/li&gt; &lt;li&gt;ca. 18:30 Anbringung der erinnerungszeichen für Melitta und Max Wallach&lt;br /&gt; am ehemaligen Trachtenhaus Wallach in der Residenzstraße 3&lt;/li&gt; &lt;li&gt;ca. 19:00 Anbringung des Erinnerungszeichen für Josef Kaltenbacher&lt;br /&gt; am ehemaligen Wohnhaus in der Marienstraße 10&lt;/li&gt; &lt;li&gt;ca. 19:30 Anbringung der Erinnerungszeichen für Betta und Hugo Epstein&lt;br /&gt; am ehemaligen Geschäftshaus in der Sendlinger Straße 21&lt;/li&gt; &lt;/ul&gt; 
DTSTART:20230706T163000
DTEND:20230706T200000
LOCATION:Altes Rathaus, Marienplatz 15
ORGANIZER:Kulturreferat der Landeshauptstadt München
END:VEVENT
END:VCALENDAR