BEGIN:VCALENDAR
VERSION:2.0
PRODID:-//Stadtgeschichte München//DE
CALSCALE:GREGORIAN
BEGIN:VEVENT
UID:23060@stadtgeschichte-muenchen.de
SUMMARY:Chinoiserie
DESCRIPTION:&lt;p&gt;China, das riesige Land am Ende der Seidenstraße, wurde einst „Cathy“ benannt. Sagenumwoben und mit unvorstellbarem Reichtum versehen, beflügelte es die Phantasien des Westens. Exportgüter wie Seide und Porzellan weckten in Europa spätestens seit Marco Polos Beschreibungen in seinem „Buch von den Wundern der Welt“ Ende des 13. Jahrhunderts die Sehnsucht nach diesem geheimnisvollen Land. Auch Herzog Albrecht V. von Bayern erwarb für seine Münchner Kunstkammer im 16. Jahrhundert chinesische Exotika. Diese Begeisterung führte im 17. und 18. Jahrhundert zu einer regelrechten China Mode und fand in allen Kunstgattungen ihren Niederschlag.&lt;/p&gt; 
DTSTART:20230716T110000
DTEND:20230716T120000
LOCATION:Bayerisches Nationalmuseum
ORGANIZER:Bayerisches Nationalmuseum
END:VEVENT
END:VCALENDAR