BEGIN:VCALENDAR
VERSION:2.0
PRODID:-//Stadtgeschichte München//DE
CALSCALE:GREGORIAN
BEGIN:VEVENT
UID:23068@stadtgeschichte-muenchen.de
SUMMARY:Ein Stück Himmel in Sendling
DESCRIPTION:&lt;p&gt;In dieser Führung erkunden die Teilnehmenden gemeinsam oder allein den Kirchenraum, lernen die Himmelfahrtskirche besser kennen und entdecken auf informative und meditative Weise Details dieses besonderen Ortes des Glaubens – aber auch eines Ortes der Begegnung, der Besinnung, der Stille, der Freude und der Musik.&lt;/p&gt; 
DTSTART:20230714T183000
DTEND:20230714T200000
LOCATION:Kidlerstr. 15, Brunnen vor der Kirche
ORGANIZER:Evangelisches Bildungswerk e.V.
END:VEVENT
END:VCALENDAR