BEGIN:VCALENDAR
VERSION:2.0
PRODID:-//Stadtgeschichte München//DE
CALSCALE:GREGORIAN
BEGIN:VEVENT
UID:23071@stadtgeschichte-muenchen.de
SUMMARY:Sendlinger Friedhof
DESCRIPTION:
DTSTART:20231114T150000
DTEND:20231114T163000
LOCATION:
ORGANIZER:Evangelisches Bildungswerk e.V.
END:VEVENT
END:VCALENDAR