BEGIN:VCALENDAR
VERSION:2.0
PRODID:-//Stadtgeschichte München//DE
CALSCALE:GREGORIAN
BEGIN:VEVENT
UID:23074@stadtgeschichte-muenchen.de
SUMMARY:Neuer Südfriedhof
DESCRIPTION:
DTSTART:20240312T150000
DTEND:20240312T163000
LOCATION:
ORGANIZER:Evangelisches Bildungswerk e.V.
END:VEVENT
END:VCALENDAR