BEGIN:VCALENDAR
VERSION:2.0
PRODID:-//Stadtgeschichte München//DE
CALSCALE:GREGORIAN
BEGIN:VEVENT
UID:23081@stadtgeschichte-muenchen.de
SUMMARY:Historisches Szeneviertel Haidhausen
DESCRIPTION:&lt;p&gt;Von den beliebten Marktständen führt der Weg zum Johannisplatz und weiter zum Weißenburger Platz. Das gründerzeitliche Franzosenviertel bietet Stadtgeschichte und Kunst. Wir besuchen die Lothringer 13 Halle, eine städtische Institution für internationale Gegenwartskunst, wo das FOTODOKS Festival für Dokumentarfotografie wieder zu Gast sein wird. Ein Mitarbeitender begrüßt Sie in der Ausstellung und steht für Gespräche zur Verfügung.&lt;/p&gt; 
DTSTART:20230804T170000
DTEND:20230804T190000
LOCATION:am Maibaum Wiener Platz
ORGANIZER:MVHS
END:VEVENT
END:VCALENDAR