BEGIN:VCALENDAR
VERSION:2.0
PRODID:-//Stadtgeschichte München//DE
CALSCALE:GREGORIAN
BEGIN:VEVENT
UID:23117@stadtgeschichte-muenchen.de
SUMMARY:Den Auer Mühlbach entlang zur &quot;Kraemer\'schen Kunstmühle&quot;
DESCRIPTION:&lt;p&gt;Früher war er die Lebensader ganzer Siedlungen, von Gewerbe- und Industriebetrieben. Schon im Mittelalter regulierte man den Bach, um seine Wasserkraft zu nutzen. An seinen Ufern entstanden die ersten Sozialeinrichtungen Giesings, wie das ehemalige Hofkrankenhaus, die spätere &quot;Giesinger Irrenanstalt&quot;. Hier entdecken wir ein altes Herbergshäusl, das biedermeierliche Häuser-Ensemble &quot;Klein-Venedig&quot;, ein privates Kraftwerk, das imposante - leider nicht zugängliche - Kloster des ehemaligen Templer-Ritterordens und das Areal der Kraemer\'schen Kunstmühle.&lt;/p&gt; 
DTSTART:20230804T160000
DTEND:20230804T180000
LOCATION:ntergiesing Treffpunkt: vor dem Alten- und Service-Zentrum (U1/U2 Kolumbusplatz) Kolumbusstr. 33
ORGANIZER:MVHS
END:VEVENT
END:VCALENDAR