BEGIN:VCALENDAR
VERSION:2.0
PRODID:-//Stadtgeschichte München//DE
CALSCALE:GREGORIAN
BEGIN:VEVENT
UID:23143@stadtgeschichte-muenchen.de
SUMMARY:Das &quot;Dritte Reich&quot; im Film: Nazis im Kino des Kalten Krieges
DESCRIPTION:&lt;h1&gt;Das &quot;Dritte Reich&quot; im Film: Nazis im Kino des Kalten Krieges&lt;/h1&gt; &lt;p&gt;&quot;Marathon Man&quot;, Regie: John Schlesinger, USA 1976&lt;/p&gt; &lt;p&gt;Dustin Hoffman als New Yorker Student Thomas \'Babe\' Levy gerät ahnungslos und unschuldig in das tödliche Intrigennetz um einen ehemaligen KZ-Arzt und einen millionenschweren Diamantendiebstahl.&lt;/p&gt; &lt;p&gt;Die Vortragsreihe untersucht, wie in den 1940er Jahren ausgewählte Filme den Nationalsozialismus darstellen.&lt;/p&gt; &lt;p&gt;&amp;nbsp;&lt;/p&gt; &lt;p&gt;&amp;nbsp;&lt;/p&gt; &lt;ul&gt; &lt;/ul&gt; 
DTSTART:20240131T180000
DTEND:20240131T193000
LOCATION:Bildungszentrum Einsteinstr. 28
ORGANIZER:MVHS
END:VEVENT
END:VCALENDAR