BEGIN:VCALENDAR
VERSION:2.0
PRODID:-//Stadtgeschichte München//DE
CALSCALE:GREGORIAN
BEGIN:VEVENT
UID:23146@stadtgeschichte-muenchen.de
SUMMARY:Von Zirkus bis Apostel. Römisches Tafelgeschirr aus Nordafrika
DESCRIPTION:&lt;p&gt;ahrhundertelang war römisches Tafelgeschirr aus Nordafrika im Mittelmeerraum gefragt. Die Gefäße bedeuteten &quot;Luxus&quot; bei Gastmählern und das zu erschwinglichen Preisen. Das Dekor zeigt u. a. Gestalten aus der Mythologie, Gladiatorenkämpfe und Tierhatzen. Im vierten Jahrhundert erschienen christliche Motive. Dr. Markus Löx ist Kurator der gleichnamigen Sonderausstellung in den Staatlichen Antikensammlungen München. Ergänzend empfehlen wir seinen Vortrag am 20.10.2023 (R217595).&lt;/p&gt; &lt;p&gt;In Kooperation mit den Staatlichen Antikensammlungen&lt;/p&gt; 
DTSTART:20231112T110000
DTEND:20231112T120000
LOCATION:Staatliche Antikensammlungen Königsplatz 1
ORGANIZER:MVHS
END:VEVENT
END:VCALENDAR