BEGIN:VCALENDAR
VERSION:2.0
PRODID:-//Stadtgeschichte München//DE
CALSCALE:GREGORIAN
BEGIN:VEVENT
UID:23157@stadtgeschichte-muenchen.de
SUMMARY:Entlang der ältesten Stadtmauer Münchens
DESCRIPTION:&lt;p&gt;Was haben Mönche, ein Welfe und ein Straßendiebstahl gemeinsam? Sie sind der Stoff, aus dem München wurde! Begeben Sie sich auf eine Zeitreise und entdecken Sie das &quot;forum apud munichen&quot; des 12. Jhs. – erst theoretisch am Stadtmodell, dann praktisch auf einem Stadtspaziergang zwischen Talburgtor und Schönem Turm. Lernen Sie Onuphrius sowie das Geheimnis des Löwenturms kennen und stellen Sie sich der spannenden Frage: Was war eigentlich vor der Gründung 1158?&lt;/p&gt; 
DTSTART:20231107T130000
DTEND:20231107T150000
LOCATION:Münchner Stadtmuseum St.-Jakobs-Platz 1
ORGANIZER:MVHS
END:VEVENT
END:VCALENDAR