BEGIN:VCALENDAR
VERSION:2.0
PRODID:-//Stadtgeschichte München//DE
CALSCALE:GREGORIAN
BEGIN:VEVENT
UID:23168@stadtgeschichte-muenchen.de
SUMMARY:Geschichtsträchtige Straßennamen
DESCRIPTION:&lt;p&gt;Es mag naheliegend erscheinen, dass die Kaufingerstraße ihren Namen den Waren verdankt, die hier käuflich erstanden werden können. Doch dieser Gedankengang - so viel sei schon verraten - führt in die Irre. Genauso würde man heute die &quot;Dultstraße&quot; vielleicht eher in der Au vermuten. Aber das erste Münchner Volksfest dieser Art fand tatsächlich in der heutigen Altstadt statt, gleich neben dem ehemaligen &quot;Isarwinkel&quot;. Lässt das &quot;Scharfrichtergassl&quot; dann wenigstens die richtigen Rückschlüsse auf seine einstigen Bewohner*innen zu?&lt;/p&gt; &lt;p&gt;Die Führung endet voraussichtlich am Sendlinger Tor.&lt;/p&gt; 
DTSTART:20231126T110000
DTEND:20231126T123000
LOCATION:Jagd- und Fischereimuseum Neuhauser Str. 2
ORGANIZER:MVHS
END:VEVENT
END:VCALENDAR