BEGIN:VCALENDAR
VERSION:2.0
PRODID:-//Stadtgeschichte München//DE
CALSCALE:GREGORIAN
BEGIN:VEVENT
UID:23173@stadtgeschichte-muenchen.de
SUMMARY:&quot;Monaco Franze&quot; – dem &quot;Stenz&quot; in Schwabing auf der Spur
DESCRIPTION:&lt;p&gt;Entdecken Sie bei diesem Streifzug durch Schwabing Drehorte der Münchner Kultserie „Monaco Franze - Der ewige Stenz“ und wandeln Sie dabei auf den Spuren des charmanten &quot;Münchner Originals&quot;. Wo ging er zusammen mit dem &quot;Kopfeck Manni&quot; auf Frauenfang? Wo genau flanierte er einst mit jungen Damen? Und wieviel &quot;Franze&quot; steckte im Schauspieler Helmut Fischer, der die Filmfigur auf unnachahmliche Weise verkörperte?&lt;/p&gt; 
DTSTART:20231112T140000
DTEND:20231112T160000
LOCATION:Münchner Freiheit/Ecke Hesseloherstr.
ORGANIZER:MVHS
END:VEVENT
END:VCALENDAR