BEGIN:VCALENDAR
VERSION:2.0
PRODID:-//Stadtgeschichte München//DE
CALSCALE:GREGORIAN
BEGIN:VEVENT
UID:23194@stadtgeschichte-muenchen.de
SUMMARY:Das Philologicum
DESCRIPTION:&lt;p&gt;Einst auf elf Standorte in sechs verschiedenen Gebäuden verteilt, ist die gesamte Literatur der Fakultät für Sprach- und Literaturwissenschaften der LMU – ein Bestand von über 420.000 Medien – seit 2019 in der Ludwigstraße 25 vereint: in der Fachbibliothek Philologicum. Besichtigen Sie im Rahmen einer Führung die Bibliothek, die, mit moderner Technik ausgestattet, über vier Doppelstockwerke nicht nur Büchern und anderen Medien Platz bietet, sondern auch ca. 650 Arbeitsplätze für Studierende&lt;/p&gt; 
DTSTART:20231106T150000
DTEND:20231106T160000
LOCATION:Philologicum, Foyer (bei den roten Sofas, Zugang über Schellingstr.) Ludwigstr. 25
ORGANIZER:MVHS
END:VEVENT
END:VCALENDAR