BEGIN:VCALENDAR
VERSION:2.0
PRODID:-//Stadtgeschichte München//DE
CALSCALE:GREGORIAN
BEGIN:VEVENT
UID:23196@stadtgeschichte-muenchen.de
SUMMARY:Besuch bei der Feuerwache 4 in Schwabing
DESCRIPTION:&lt;p&gt;Die Feuerwache 4 in Schwabing ist seit 2016 in der Heßstraße 120 untergebracht. In dem mehrstöckigen Gebäude befinden sich auch die Integrierte Leitstelle der Berufsfeuerwehr (wird nicht besichtigt), das Kommando der Freiwilligen Feuerwehr, die Freiwillige Feuerwehr Abteilung Mitte mit ihrem Gerätehaus sowie der Katastrophenschutz. Die Führung erlaubt Einblicke in den Arbeitsalltag der Berufsfeuerwehr und informiert auch über Ausrüstung, Fahrzeuge und das Wachgebiet.&lt;/p&gt; &lt;p&gt;&amp;nbsp;&lt;/p&gt; 
DTSTART:20231111T133000
DTEND:20231111T150000
LOCATION:Feuerwache 4 Heßstr. 120
ORGANIZER:MVHS
END:VEVENT
END:VCALENDAR