BEGIN:VCALENDAR
VERSION:2.0
PRODID:-//Stadtgeschichte München//DE
CALSCALE:GREGORIAN
BEGIN:VEVENT
UID:2320@stadtgeschichte-muenchen.de
SUMMARY:Jagdrevier und Wohnquartier
DESCRIPTION:&lt;div&gt;Wir folgen der Entwicklung Neuhausens vom verschlafenen Bauerndorf mit dem alten Winthirkirchlein zu einem belebten und beliebten Stadtteil mit vielen verschiedenen Gesichtern und der modernen Herz-Jesu-Kirche.&lt;/div&gt;
DTSTART:20120528T140000
DTEND:20120528T000000
LOCATION:Ecke Rotkreuzplatz/Donnersbergerstraße
ORGANIZER:STATTreisen München e.V.
END:VEVENT
END:VCALENDAR