BEGIN:VCALENDAR
VERSION:2.0
PRODID:-//Stadtgeschichte München//DE
CALSCALE:GREGORIAN
BEGIN:VEVENT
UID:23205@stadtgeschichte-muenchen.de
SUMMARY:Zu Besuch bei der Bayerischen Akademie der Wissenschaften
DESCRIPTION:&lt;p&gt;Ob Geistes-, Geowissenschaften, Tieftemperaturphysik oder Informationstechnologie: Die Forschungsfelder der Akademie und ihrer mehr als 60 Projekte sind höchst unterschiedlich. Die Führung durch die Räumlichkeiten in der Residenz informiert über die Aufgaben, die Arbeit und Geschichte dieser außeruniversitären Forschungseinrichtung. Zudem wird ein konkretes Projekt besucht, das Langzeitforschung erlebbar macht: das &quot;Bayerische Wörterbuch&quot;, dessen Anfänge bis ins Jahr 1911 zurückreichen und das die Mundarten Altbayerns erforscht und dokumentiert.&lt;/p&gt; 
DTSTART:20240220T130000
DTEND:20240220T143000
LOCATION:Bayerische Akademie der Wissenschaften Alfons-Goppel-Str. 11
ORGANIZER:MVHS
END:VEVENT
END:VCALENDAR