BEGIN:VCALENDAR
VERSION:2.0
PRODID:-//Stadtgeschichte München//DE
CALSCALE:GREGORIAN
BEGIN:VEVENT
UID:23225@stadtgeschichte-muenchen.de
SUMMARY:Der neue Vortragssaal in Ramersdorf - ein Grund zum Feiern
DESCRIPTION:&lt;p&gt;Der Grund mit Ihnen anzustoßen, ist die Modernisierung von Medientechnik und Ausstattung unseres Saales im Stadtbereichszentrum Ost, die mit Unterstützung der mit Unterstützung der Stadtsparkasse München und des Fördervereins der MVHS gelungen ist. Überzeugen Sie sich selbst!&lt;/p&gt; &lt;p&gt;Mit Übersetzung in die Deutsche Gebärdensprache.&lt;/p&gt; &lt;p&gt;&amp;nbsp;&lt;/p&gt; &lt;p&gt;Es sprechen:&lt;/p&gt; &lt;p&gt;Marek Wiechers, Stadtdirektor im Kulturreferat der LH München&lt;/p&gt; &lt;p&gt;Dr. Martin Ecker, Managementdirektor der MVHS&lt;/p&gt; &lt;p&gt;Sabine Schölzel, Vorstandsmitglied der Stadtsparkasse München&lt;/p&gt; &lt;p&gt;Haimo Liebich, Vorsitzender des MVHS-Fördervereins&lt;/p&gt; &lt;p&gt;Winfried Eckardt, Leitung MVHS Stadtbereich Ost&lt;/p&gt; &lt;p&gt;Musik von Straubinger + Himpsl&lt;/p&gt; &lt;p&gt;Stefan Straubinger (Bandoneon, Drehleier, Maultrommel,&lt;/p&gt; &lt;p&gt;Gesang) und Ludwig Himpsl (Percussion, Waldhorn, Alphorn)&lt;/p&gt; 
DTSTART:20230915T170000
DTEND:20230915T200000
LOCATION:
ORGANIZER:MVHS
END:VEVENT
END:VCALENDAR