BEGIN:VCALENDAR
VERSION:2.0
PRODID:-//Stadtgeschichte München//DE
CALSCALE:GREGORIAN
BEGIN:VEVENT
UID:23240@stadtgeschichte-muenchen.de
SUMMARY:Themenführung: die Gestapo im KZ-System
DESCRIPTION:&lt;p&gt;Die bereits Ende Februar 1933 verschärfte &quot;Schutzhaft&quot; gab der Geheimen Staatspolizei die Befugnis, Gegner unbefristet in Konzentrationslager einzuweisen. Wie das KZ-System unterlag die Gestapo einer ständigen Entwicklung: Lag ihr Schwerpunkt anfangs auf der Zerschlagung der politischen Opposition, wurde sie ab 1939 eine Säule der NS-Eroberungs- und Vernichtungspolitik. Anlässlich des 90. Jahrestages des zweiten &quot;Gestapo-Gesetzes&quot; vom 30. November 1933 zeigt der Themenrundgang die von Anfang an untrennbare Zusammenarbeit von Gestapo und KZ.&lt;/p&gt; 
DTSTART:20231202T140000
DTEND:20231202T160000
LOCATION:Besucherzentrum KZ-Gedenkstätte Dachau Pater-Roth-Str. 2a
ORGANIZER:MVHS
END:VEVENT
END:VCALENDAR