BEGIN:VCALENDAR
VERSION:2.0
PRODID:-//Stadtgeschichte München//DE
CALSCALE:GREGORIAN
BEGIN:VEVENT
UID:23279@stadtgeschichte-muenchen.de
SUMMARY:Der Menschlichkeit verpflichtet
DESCRIPTION:&lt;p&gt;Was muss Medizin im Krieg leisten? Und was kann und darf Medizin von den physisch und psychisch vom Krieg Gezeichneten lernen? Die beiden Lehrsammlungen für Militärgeschichte und Wehrpathologie geben aufrüttelnde und beeindruckende Antworten auf diese Fragen. Bei der Führung durch die eigentlich für die Öffentlichkeit nicht zugänglichen Sammlungen wird die wechselvolle Geschichte deutscher militärischer Sanitätsdienste dargestellt und der einzigartige Sammlungsbestand der wehrpathologischen Lehrsammlung (pathologische Präparate) erläutert.&lt;/p&gt; 
DTSTART:20231009T170000
DTEND:20231009T190000
LOCATION:Sanitätsakademie der Bundeswehr Neuherbergstr. 11
ORGANIZER:MVHS
END:VEVENT
END:VCALENDAR