BEGIN:VCALENDAR
VERSION:2.0
PRODID:-//Stadtgeschichte München//DE
CALSCALE:GREGORIAN
BEGIN:VEVENT
UID:23289@stadtgeschichte-muenchen.de
SUMMARY:Besuch im Secondhand-Kaufhaus der diakonia
DESCRIPTION:&lt;p&gt;Im Secondhand-Kaufhaus der diakonia gibt es auf 1200 Quadratmetern alles rund um den Haushalt, z.B. Möbel, Bücher und Kleidung. Alle Artikel sind Spenden und einkaufen kann jede*r. Das Projekt kümmert sich um die Integration von Langzeitarbeitslosen und gibt ihnen eine Möglichkeit, wieder einen Beruf aufzunehmen. Die Führung stellt das Kaufhaus und die Einrichtung mit allen Arbeitsbereichen vor.&lt;/p&gt; &lt;p&gt;Im Rahmen der Reihe &quot;Mehr vom Weniger - Perspektiven auf eine Postwachstumswelt&quot;.&lt;/p&gt; &lt;p&gt;Diese Veranstaltung wird gefördert durch das Bayerische Staatsministerium für Unterricht und Kultus.&lt;/p&gt; &lt;p&gt;&amp;nbsp;&lt;/p&gt; &lt;ul&gt; &lt;/ul&gt; 
DTSTART:20231207T150000
DTEND:20231207T000016
LOCATION:EG an der Theke im Kaufhaus Dachauer Str. 192
ORGANIZER:MVHS
END:VEVENT
END:VCALENDAR